BEGIN:VCALENDAR
VERSION:2.0
PRODID:-//ChamberMaster//Event Calendar 2.0//EN
METHOD:PUBLISH
X-PUBLISHED-TTL:P1H
REFRESH-INTERVAL:P1H
CALSCALE:GREGORIAN
BEGIN:VTIMEZONE
TZID:America/Los_Angeles
BEGIN:DAYLIGHT
RRULE:FREQ=YEARLY;BYMONTH=3;BYDAY=2SU
DTSTART:20070101T000000
TZOFFSETFROM:-0800
TZOFFSETTO:-0700
TZNAME:Pacific Daylight Time
END:DAYLIGHT
BEGIN:STANDARD
RRULE:FREQ=YEARLY;BYMONTH=11;BYDAY=1SU
DTSTART:20070101T000000
TZOFFSETFROM:-0700
TZOFFSETTO:-0800
TZNAME:Pacific Standard Time
END:STANDARD
END:VTIMEZONE
BEGIN:VEVENT
DTSTART;TZID=America/Los_Angeles:20260429T163000
DTEND;TZID=America/Los_Angeles:20260429T193000
X-MICROSOFT-CDO-ALLDAYEVENT:FALSE
SUMMARY:Swing Into Spring!
DESCRIPTION:Come and enjoy an evening of fun!  Mexican cuisine\, soup samples\, tasting from the Bates store\, wine & dessert and so much more!
X-ALT-DESC;FMTTYPE=text/html:Come and enjoy an evening of fun!  Mexican cuisine\, soup samples\, tasting from the Bates store\, wine & dessert and so much more!
LOCATION:15954 Woods Valley Rd Valley Center CA 92082
UID:e.4183.1445868
SEQUENCE:3
DTSTAMP:20260423T130702Z
URL:https://business.vcchamber.com/calendar/Details/swing-into-spring-1712518?sourceTypeId=Hub
END:VEVENT
END:VCALENDAR
