BEGIN:VCALENDAR
VERSION:2.0
PRODID:-//ChamberMaster//Event Calendar 2.0//EN
METHOD:PUBLISH
X-PUBLISHED-TTL:P1H
REFRESH-INTERVAL:P1H
CALSCALE:GREGORIAN
BEGIN:VTIMEZONE
TZID:America/Los_Angeles
BEGIN:DAYLIGHT
RRULE:FREQ=YEARLY;BYMONTH=3;BYDAY=2SU
DTSTART:20070101T000000
TZOFFSETFROM:-0800
TZOFFSETTO:-0700
TZNAME:Pacific Daylight Time
END:DAYLIGHT
BEGIN:STANDARD
RRULE:FREQ=YEARLY;BYMONTH=11;BYDAY=1SU
DTSTART:20070101T000000
TZOFFSETFROM:-0700
TZOFFSETTO:-0800
TZNAME:Pacific Standard Time
END:STANDARD
END:VTIMEZONE
BEGIN:VEVENT
DTSTART;TZID=America/Los_Angeles:20260505T103000
DTEND;TZID=America/Los_Angeles:20260505T150000
X-MICROSOFT-CDO-ALLDAYEVENT:FALSE
SUMMARY:MMIP Awareness Day
DESCRIPTION:Flag raising ceremony on May 5th - Partners include Rincon Band of Luiseno Indians\, Strong Hearted Native Women's Coalition\, Inc.\, Indian Health Council\, Inc.  View the flyer to learn more!
X-ALT-DESC;FMTTYPE=text/html:Flag raising ceremony on May 5th - Partners include Rincon Band of Luiseno Indians\, Strong Hearted Native Women's Coalition\, Inc.\, Indian Health Council\, Inc.  View the flyer to learn more!
LOCATION:50100 Golsh Road Valley Center CA 92082
UID:e.4183.1449451
SEQUENCE:3
DTSTAMP:20260423T130819Z
URL:https://business.vcchamber.com/calendar/Details/mmip-awareness-day-1716910?sourceTypeId=Hub
END:VEVENT
END:VCALENDAR
